BEGIN:VCALENDAR
PRODID:-//Det Danske Spejderkorps//NONSGML Gruppeweb//EN
VERSION:2.0
CALSCALE:GREGORIAN
X-PUBLISHED-TTL:PT1H
X-WR-CALNAME:Minier i Erik Ejegod Gruppe
METHOD:PUBLISH
BEGIN:VEVENT
UID:gruppeweb.dk:1209:event:1101
DTSTAMP:20260420T150851Z
LAST-MODIFIED:20250215T102501Z
SUMMARY:Minimøde 18:30-20:00
DESCRIPTION:Minimøde 18:30-20:00\n\n
URL:https://erikejegod.dk/begivenhed/minimoede-1830-2000-11
DTSTART;VALUE=DATE:20250422
LOCATION:Erik Ejegod Gruppe\, Lystrupvej 22\, 3550 Slangerup
END:VEVENT
BEGIN:VEVENT
UID:gruppeweb.dk:1209:event:1100
DTSTAMP:20260420T150851Z
LAST-MODIFIED:20250215T102501Z
SUMMARY:Minimøde 18:30-20:00
DESCRIPTION:Minimøde 18:30-20:00\n\n
URL:https://erikejegod.dk/begivenhed/minimoede-1830-2000-10
DTSTART;VALUE=DATE:20250429
LOCATION:Erik Ejegod Gruppe\, Lystrupvej 22\, 3550 Slangerup
END:VEVENT
BEGIN:VEVENT
UID:gruppeweb.dk:1209:event:1099
DTSTAMP:20260420T150851Z
LAST-MODIFIED:20250215T102501Z
SUMMARY:Minimøde 18:30-20:00
DESCRIPTION:Minimøde 18:30-20:00\n\n
URL:https://erikejegod.dk/begivenhed/minimoede-1830-2000-9
DTSTART;VALUE=DATE:20250506
LOCATION:Erik Ejegod Gruppe\, Lystrupvej 22\, 3550 Slangerup
END:VEVENT
BEGIN:VEVENT
UID:gruppeweb.dk:1209:event:1098
DTSTAMP:20260420T150851Z
LAST-MODIFIED:20250215T102501Z
SUMMARY:Minimøde 18:30-20:00
DESCRIPTION:Minimøde 18:30-20:00\n\n
URL:https://erikejegod.dk/begivenhed/minimoede-1830-2000-8
DTSTART;VALUE=DATE:20250513
LOCATION:Erik Ejegod Gruppe\, Lystrupvej 22\, 3550 Slangerup
END:VEVENT
BEGIN:VEVENT
UID:gruppeweb.dk:1209:event:1097
DTSTAMP:20260420T150851Z
LAST-MODIFIED:20250215T102501Z
SUMMARY:Minimøde 18:30-20:00
DESCRIPTION:Minimøde 18:30-20:00\n\n
URL:https://erikejegod.dk/begivenhed/minimoede-1830-2000-7
DTSTART;VALUE=DATE:20250520
LOCATION:Erik Ejegod Gruppe\, Lystrupvej 22\, 3550 Slangerup
END:VEVENT
BEGIN:VEVENT
UID:gruppeweb.dk:1209:event:1096
DTSTAMP:20260420T150851Z
LAST-MODIFIED:20250215T102501Z
SUMMARY:Minimøde 18:30-20:00
DESCRIPTION:Minimøde 18:30-20:00\n\n
URL:https://erikejegod.dk/begivenhed/minimoede-1830-2000-6
DTSTART;VALUE=DATE:20250527
LOCATION:Erik Ejegod Gruppe\, Lystrupvej 22\, 3550 Slangerup
END:VEVENT
BEGIN:VEVENT
UID:gruppeweb.dk:1209:event:1114
DTSTAMP:20260420T150851Z
LAST-MODIFIED:20260211T090734Z
SUMMARY:MINI - Oak City Rally
DESCRIPTION:OAK CITY RALLY\n\nLøbeskoene skal findes frem når vi skal væ
 re med til det legendariske  \nsæbekasseløbet.\n\nVi mødes aller SENEST
  kl  9.15 den 1 Juni 2025 på Farum Station.\n\nDet hele slutter 10 km og
  nogle timer senere på Egemosecentret i Ganløse.\n\nI år er det Jubilæ
 um da det er 50 år siden OCR startede med kun 18 biler\,  \ni dag er der 
 ca 300 biler fra spejdergrupper over hele landet.\n\nI 1975 hed vinderbile
 n  "The five Bussemandspillere" fra Emdrup gruppe.  \nsiden er der kommet
  mange sjove navne og vanvittig flotte udsmykkede biler  \ntil.\n\nVi skal
  selvfølgelig også "pimpe" vores biler på nogle møder og måske  \nfin
 de et godt tema til holdene\, alle gode ideer modtages til en snak.\n\nTil
 melding på hjemmesiden.\n\n\n
URL:https://erikejegod.dk/begivenhed/mini-oak-city-rally-1
DTSTART:20250601T071500Z
DTEND:20250601T130000Z
LOCATION:Farum Station\, Ryttergårdsvej\, 3520 Farum
END:VEVENT
BEGIN:VEVENT
UID:gruppeweb.dk:1209:event:1095
DTSTAMP:20260420T150851Z
LAST-MODIFIED:20250215T102501Z
SUMMARY:Minimøde 18:30-20:00
DESCRIPTION:Minimøde 18:30-20:00\n\n
URL:https://erikejegod.dk/begivenhed/minimoede-1830-2000-5
DTSTART;VALUE=DATE:20250603
LOCATION:Erik Ejegod Gruppe\, Lystrupvej 22\, 3550 Slangerup
END:VEVENT
BEGIN:VEVENT
UID:gruppeweb.dk:1209:event:1094
DTSTAMP:20260420T150851Z
LAST-MODIFIED:20250215T102501Z
SUMMARY:Minimøde 18:30-20:00
DESCRIPTION:Minimøde 18:30-20:00\n\n
URL:https://erikejegod.dk/begivenhed/minimoede-1830-2000-4
DTSTART;VALUE=DATE:20250610
LOCATION:Erik Ejegod Gruppe\, Lystrupvej 22\, 3550 Slangerup
END:VEVENT
BEGIN:VEVENT
UID:gruppeweb.dk:1209:event:1093
DTSTAMP:20260420T150851Z
LAST-MODIFIED:20250215T102501Z
SUMMARY:Minimøde 18:30-20:00
DESCRIPTION:Minimøde 18:30-20:00\n\n
URL:https://erikejegod.dk/begivenhed/minimoede-1830-2000-3
DTSTART;VALUE=DATE:20250617
LOCATION:Erik Ejegod Gruppe\, Lystrupvej 22\, 3550 Slangerup
END:VEVENT
BEGIN:VEVENT
UID:gruppeweb.dk:1209:event:1215
DTSTAMP:20260420T150851Z
LAST-MODIFIED:20260211T090519Z
SUMMARY:EE Arbejdsdag
DESCRIPTION:Kære forældre\, bedsteforældre og Venner\,\n\nVi behøver Di
 n/Jeres hjælp \;-)\n\nLØRDAG D. 21 Juni kl 9.30 - 13.30 ca\n\nVi har fø
 lgende opgaver der skal gøres så der bliver fint til vi skal  \nholde Sc
 t. Hans for spejderne samt slangerup og omegn.\n\nBrænde skal skæres \, 
 medbring motorsav og sikkerhedsudstyr\n\nGangsti skal beskæres\, medbring
  grensakse\, beskære redskaber\n\nDet stjålne bord ved shelter skal reet
 ableres\, medbring: boremaskine\, sav\,  \ndiv værktøj\n\nP-Plads skal r
 yddes for ukrudt\, affald skal på losseplads\n\nKlargøring af bål og Gr
 ill  til sct. Hans\n\nSamt generel klargøring af grunden.\n\nSpejderne e
 r velkommen\, men der er ikke anden aktivitet for dem end det de  \nselv k
 an være kreative med \;-)\n\nKaffe \, the og vand er klar hele tiden \n\
 n \n\nSÅ ... kom gerne et par timer med handsker og godt humør\,\n\n\nS
 pejderhilsen\n\nLederne\n\n\n
URL:https://erikejegod.dk/begivenhed/ee-arbejdsdag-0
DTSTART:20250621T073000Z
DTEND:20250621T113000Z
LOCATION:Erik Ejegod Gruppe\, Lystrupvej 22\, 3550 Slangerup
END:VEVENT
BEGIN:VEVENT
UID:gruppeweb.dk:1209:event:1206
DTSTAMP:20260420T150851Z
LAST-MODIFIED:20250625T055357Z
SUMMARY:Mikro-mini sommerlejr
DESCRIPTION:*Sommerlejr for Mikro og Mini i Frydenborg Gruppen*\n\nGlæd je
 r til en fantastisk sommerlejr fyldt med hygge\, sjove oplevelser og  \nf
 ællesskab! Vi skal riste skumfiduser over bålet\, sove i telt og udforsk
 e  \nspændende steder i Hillerød og omegn.\n\n📅 *Afrejse:* Mandag d. 
 30. juni kl. 08.00\n📍 *Mødested:* Erik Ejegod Grunden\n🎒 *Bagage:* 
 Samles i en trailer\, mens vi tager samlet med bus til  \nHillerød.\n\n
 📅 *Afhentning**:* Fredag d. 4. juli kl. 16.00 i Frydenborg – men  \ns
 ommerlejren behøver ikke slutte her! Der er mulighed for at blive til  \n
 lørdag sammen med en forælder.\n\nMere information findes i den vedhæft
 ede invitation\, og op til lejren vil  \nder komme flere detaljer i vores 
 lejravis.\n\n✅ *Tilmelding og betaling* foregår via hjemmesiden.\n\nVi 
 glæder os til en uforglemmelig uge sammen!\n\n\n*Spejderhilsner*\nLederne
  fra Mikro og Mini\n\n
URL:https://erikejegod.dk/begivenhed/mikro-mini-sommerlejr
DTSTART:20250630T060000Z
DTEND:20250704T140000Z
LOCATION:Erik Ejegod Gruppe\, Lystrupvej 22\, 3550 Slangerup
END:VEVENT
BEGIN:VEVENT
UID:gruppeweb.dk:1209:event:1223
DTSTAMP:20260420T150851Z
LAST-MODIFIED:20250827T052527Z
SUMMARY:MINI Shelter Ryste sammen
DESCRIPTION:Vi skal ryste mini godt sammen.\n\nVi skal hygge os\, lege og l
 ave mad på bål.\n\nNår det er tid går vi i poserne og sover i vores sh
 eltere.\n\nDer er morgenmad kl 8 hvor alle forældre er inviteret\, når v
 i har spist og  \nryddet op er det tid til at sige farvel.\n\nTilmelding p
 å hjemmesiden senest d. 10 sept.\n\n\nSpejderhilsen\n\nLederne\n\n
URL:https://erikejegod.dk/begivenhed/mini-shelter-ryste-sammen
DTSTART:20250913T140000Z
DTEND:20250914T060000Z
LOCATION:Erik Ejegod Gruppe\, Lystrupvej 22\, 3550 Slangerup
END:VEVENT
BEGIN:VEVENT
UID:gruppeweb.dk:1209:event:1233
DTSTAMP:20260420T150851Z
LAST-MODIFIED:20260211T090442Z
SUMMARY:Fælles Æble most møde
DESCRIPTION:Den årlige Æble moste dag.\n\nAlle grene mødes mandag d. 15/
 9 kl 18 til ca 20\n\nMedbring 1-2 poser *IKKE* sprøjtede æbler\, 2-3 stk
  renr1\,5 L flasker med  \nnavn på. \n\nPluk fra haven\, hos naboen\, ve
 d bedsteforældrene eller hvor du nu må plukke  \nfriske æbler.\n\nDet m
 å gerne være nedfald\, men ikke rådne eller stødte æbler.\n\n\nMens s
 pejderne laver æbler\, er der lidt pratiske opgaver vi håber  \nforældr
 ene vil hjælpe med.\n\nSkære/samle træ bjørne til julemarked\, Sy EE t
 ørklæder til bjørne\,  \nStable brændebunke på plads\, Ting fra hytte
 n sorteres\, samt andet.\n\nForældre Medbring: Motorsave\, Symaskine\, sk
 ruemaskine\, arbejdshandsker og  \ngodt humør \;-)\n\nSpejderhilsen\n\nLe
 derne\n\n
URL:https://erikejegod.dk/begivenhed/faelles-aeble-most-moede
DTSTART:20250915T160000Z
DTEND:20250915T180000Z
LOCATION:Erik Ejegod Gruppe\, Lystrupvej 22\, 3550 Slangerup
END:VEVENT
BEGIN:VEVENT
UID:gruppeweb.dk:1209:event:1219
DTSTAMP:20260420T150851Z
LAST-MODIFIED:20250827T053932Z
SUMMARY:Tivoli Friheden
DESCRIPTION:* Forhåndstilmelding: Spejderweekend i Tivoli Friheden*\n*Min
 i\, Junior\, Trop og Klan – Erik Ejegod Gruppen*\n\nVi planlægger en st
 or fællestur for hele gruppen – *et uforglemmeligt  \nspejderløb i Ti
 voli Friheden i Aarhus!*\nHer deltager spejdere fra hele landet\, og der b
 liver fyldt med aktiviteter\,  \nkonkurrencer\, sjove poster og selvfølge
 lig masser af spejderfællesskab og  \ntivoli-stemning.\n\n *Hvornår?*\n
 *Lørdag d. 20. til søndag d. 21. september 2025*\n\n *Afgang:* Tidligt
  lørdag morgen fra *Odden Havn* – vi sejler med  \nfærgen og fortsæ
 tter til Aarhus.\n *Hjemkomst:* Søndag eftermiddag – afhentning igen 
 på Odden Havn  \n(nærmere tid følger).\n\n *Pris:* 1100 kr.\nPrisen d
 ækker transport\, entre og aktiviteter i Tivoli Friheden\, mad hele  \nwe
 ekenden og overnatning i fælles lejr.\nVi søger fonde og tilskud for at 
 få prisen ned – men det er vigtigt\, at  \nman er *indstillet på at s
 kulle betale fuld pris*\, hvis det ikke lykkes.\n\n *Overnatning og trygh
 ed:*\nVi overnatter sammen i telte med Erik Ejegod ledere. Der er *ledere
  med fra  \nalle grene* – både Mini\, Junior og Trop\, (Klan) – så 
 alle børn er i  \ntrygge hænder og i selskab med både kendte og nye spe
 jdervenner.\n\n *Turen byder på:*\n\n * Stort spejderløb i Tivoli Frihe
 den\n   \n * Spejderaktiviteter og poster i hele parken\n   \n * Sjov og h
 ygge med spejdere fra hele landet\n   \n * Overnatning i fælles spejderle
 jr\n   \n * Transport og forplejning hele vejen igennem\n   \n\n *Forhån
 dstilmelding:*\nVi har brug for at vide\, hvem der ønsker at deltage\, *
 så vi kan reservere  \npladser og komme videre med planlægningen*.\n*Sva
 r senest om 14 dage – dvs. mandag den 7. juli 2025  *\n\nVi glæder os 
 til en kæmpe oplevelse sammen – og håber\, jeres barn vil  \nmed!\n\nS
 pejderhilsen\n*Lederne i Erik Ejegod Gruppen*\n\n
URL:https://erikejegod.dk/begivenhed/tivoli-friheden
DTSTART:20250920T030000Z
DTEND:20250921T204000Z
LOCATION:Skovbrynet 5\, 8000 Århus
END:VEVENT
BEGIN:VEVENT
UID:gruppeweb.dk:1209:event:1236
DTSTAMP:20260420T150851Z
LAST-MODIFIED:20250924T055112Z
SUMMARY:Mini Shelter overnatning med Forældre
DESCRIPTION:Kære Mini'er OG forældre\,\n\n\nSeje spejdere som vi er \, ta
 ger vi direkte videre fra Divisions Turnering til  \novernatning i Ådalen
 s Sheltere og hygger.\n\nVi skal lave bålmad og hygge om lejrbålet\, ind
 en vi går i poserne.\n\nSøndag er vi færdige efter morgenmad og oprydni
 ng ca kl 10\n\nHvis der er mindre end 10 tilmeldte aflyses overnatning.\n\
 n\nSkynd jer at melde til \;-)\n\nLederne\n\n\n
URL:https://erikejegod.dk/begivenhed/mini-shelter-overnatning-med-foraeldre
DTSTART:20251004T140000Z
DTEND:20251005T080000Z
LOCATION:Ådalens Sheltere\, Ågade overfor nr 57\, 3600 Frederikssund
END:VEVENT
BEGIN:VEVENT
UID:gruppeweb.dk:1209:event:1237
DTSTAMP:20260420T150851Z
LAST-MODIFIED:20250929T210630Z
SUMMARY:Kom med op i træ toppene
DESCRIPTION:Kære spejdereVi inviterer jer til et spændende klatrearrangem
 ent:\n Dato: Lørdag d. 11. oktober  Tid: Kl. 13.00 – 16.00  Mød
 ested:  \nErik Ejegod-grunden\nAlle spejdere skal have spist frokost hjemm
 efra. Der vil være 4–5  \nuddannede instruktører\, som sørger for\,
  at vi får en sjov og sikker  \noplevelse i højderne.\n Pris: 30 kr. (d
 ækker eftermiddagssnacks)Vi glæder os til en dag fyldt med  \nudfordring
 er\, grin og klatreoplevelser!\n
URL:https://erikejegod.dk/begivenhed/kom-med-op-i-trae-toppene
DTSTART:20251011T110000Z
DTEND:20251011T140000Z
LOCATION:Erik Ejegod Gruppe\, Lystrupvej 22\, 3550 Slangerup
END:VEVENT
BEGIN:VEVENT
UID:gruppeweb.dk:1209:event:1240
DTSTAMP:20260420T150851Z
LAST-MODIFIED:20251001T051541Z
SUMMARY:Erik Ejegod Juletur 2025
DESCRIPTION: 🎅🎅🎅      Nu det Jul igen... Nu det Jul igen... \;
 -)   \n 🎅🎅🎅\n\nErik Ejegod skal på Juletur til Klinteborg i F
 årevejle\, med alt hvad der  \nhører julen til. \n\nVi skal hygge\, lav
 e sjove lege\, på Juleløb\, danse om juletræ og spise den  \nlækreste 
 hjemmelavede julemiddag.\n\nVi mødes Fredag D. 21 Nov. kl 16.45 på Erik 
 Ejegod grunden\, hvor der kommer  \nen bus så vi alle kører samlet til K
 linteborg.                     \n \n\nSe vedhæftede invitation
  og skynd jer at melde til på hjemmesiden.\n\nSpejder Jule hilsen 🎅\n\
 nLedere og Bestyrelse \n\n\n\n
URL:https://erikejegod.dk/begivenhed/erik-ejegod-juletur-2025
DTSTART:20251121T160000Z
DTEND:20251123T100000Z
LOCATION:Klinteborg\, Ribsvej 9\, 4540 Fårevejle
END:VEVENT
BEGIN:VEVENT
UID:gruppeweb.dk:1209:event:1259
DTSTAMP:20260420T150851Z
LAST-MODIFIED:20260214T135739Z
SUMMARY:Fastelavn for alle.
DESCRIPTION:Kære alle\,\n\nD 16/2-26 skal vi holde fastelavn og slå katte
 n af tønden.\n\nAlle skal helst komme i deres bedste udklædning også de
  voksne.\n\nDer er tønder til alle grene og til de voksne der er klædt u
 d \;-)\n\nKom med godt humør til Fastelavns hygge. Tilmelding med antal p
 å  \nhjemmesiden.\n\nMor-Far og søskende er velkommen \n\nSpejderhilsen
 \n\nLederne\n\n
URL:https://erikejegod.dk/begivenhed/fastelavn-alle
DTSTART:20260216T163000Z
DTEND:20260216T190000Z
LOCATION:Erik Ejegod Gruppe\, Lystrupvej 22\, 3550 Slangerup
END:VEVENT
BEGIN:VEVENT
UID:gruppeweb.dk:1209:event:1244
DTSTAMP:20260420T150851Z
LAST-MODIFIED:20260103T205636Z
SUMMARY:MINI - Shelter med forældre
DESCRIPTION:Så er det tid til en hyggelig overnatning med forældre/søske
 nde.\n\nLørdag d. 21/3-26 kl 14\n\nVi skal til Blå Port Shelter ved Esru
 m sø.\n\nVi laver aftensmad sammen og hygger bagefter om bålet inden vi 
 skal i  \nposerne.\n\nSøndag morgen pakker vi sammen efter morgenmaden og
  siger tak for nu.\n\nTilmelding på hjemmesiden senest D. 19/3-26\n\nSpej
 derhilsen\n\nLederne\n\n
URL:https://erikejegod.dk/begivenhed/mini-shelter-med-foraeldre-0
DTSTART:20260321T130000Z
DTEND:20260322T090000Z
LOCATION:Blå Port Shelter\, søvejen\, Esrum
END:VEVENT
BEGIN:VEVENT
UID:gruppeweb.dk:1209:event:1245
DTSTAMP:20260420T150851Z
LAST-MODIFIED:20260323T101524Z
SUMMARY:Påskeløb for alle Spejderne
DESCRIPTION:Lørdag d. 28 marts 2026 kl 10-15\n\nVi skal på eventyr i skov
 en og sammen løse spændende opgaver og finde spor  \naf påskeharen.\n\n
 Skynd dig at melde til på hjemmesiden.\n\nHUSK på dagen: Uniform\, tøj 
 efter vejret\, Drikkedunk\, madpakke og ikke  \nmindst\n\ndet gode påskeh
 umør \n\nPåskehilsen Lederne\n\n\n\n
URL:https://erikejegod.dk/begivenhed/paaskeloeb-alle-spejderne
DTSTART:20260328T090000Z
DTEND:20260328T140000Z
LOCATION:Erik Ejegod Gruppe\, Lystrupvej 22\, 3550 Slangerup
END:VEVENT
BEGIN:VEVENT
UID:gruppeweb.dk:1209:event:1302
DTSTAMP:20260420T150851Z
LAST-MODIFIED:20260325T064347Z
SUMMARY:MINI og JUNIOR Divisionsturnering
DESCRIPTION:Divisionsturnering på Høbjerghus\, Høbjerg Hegn 5\, 3200 He
 lsinge\n\nDer er kaos i Disney+ \n\nHjælp med at få figurerne tilbage t
 il deres rigtige film.\n\nFredag D. 24 April 2026 \, Kl 17 på Høbjerghus
 . Vi har aftensmaden klar.\n\nWeekenden byder på masser af sjove udfordri
 nger\, for at finde en samlet  \nvinder Søndag D. 26 April kl 11.\n\nAfhe
 ntning på Høbjerghus\, Søndag D 26 April kl 13 \, \n\n\nSpejderhilsen\
 n\nEge Divisionen\n\n
URL:https://erikejegod.dk/begivenhed/mini-og-junior-divisionsturnering
DTSTART:20260424T150000Z
DTEND:20260426T100000Z
LOCATION:Høbjerghus\, Høbjerg Hegn 5\, 3200 Helsinge
END:VEVENT
BEGIN:VEVENT
UID:gruppeweb.dk:1209:event:1258
DTSTAMP:20260420T150851Z
LAST-MODIFIED:20260304T204656Z
SUMMARY:Sommerlejr 2026
DESCRIPTION:*Vi skal på sommerlejr sammen med hele verden......*      
          \n     \n\nUge 30 \, D. 18-26 Juli 2026 i Hedeland ved Ro
 skilde.\n\nSL 26 er en kæmpe lejr med 35-40.000 spejdere fra hele verden.
  Vi bor i  \nvores egen Erik Ejegod lejr\, både vores spejdere og ledere.
 \n\nDer vil være et kæmpe tilbud af sjove aktiviteter hele ugen. Vi skal
  til  \nkæmpe åbnings lejrbål på skibakken\, lege med de andre spejder
 e\, udvikle  \nnye venskaber\, hygge og prøve en masse sjove ting.\n\n*Sk
 ynd jer at melde til på hjemmesiden* .......... Det bliver en fantastisk 
  \noplevelse. Tilmelding inden 28/2 = kr 2475\,-  efter 1/3 = kr. 2600\,-
 \n\n1 sommerlejr brev er sendt til jeres mail \, Lejravis med yderligere i
 nfo  \nkommer inden skolernes sommerferie (ca uge 27)\n\nTag fat i jeres l
 eder hvis der er spørgsmål.\n\n                           
                     \nSpejderhilsen Lederne    \n\n    \n\n
URL:https://erikejegod.dk/begivenhed/sommerlejr-2026
DTSTART:20260717T220000Z
DTEND:20260725T220000Z
LOCATION:Hedeland\, Roskilde
END:VEVENT
BEGIN:VEVENT
UID:gruppeweb.dk:1209:event:1305
DTSTAMP:20260420T150851Z
LAST-MODIFIED:20260403T075510Z
SUMMARY:Sommerlejr 2026 EFTERTILMELDING
DESCRIPTION:Vi skal på sommerlejr sammen med hele verden......        
        \n     \n\nUge 30 \, D. 18-26 Juli 2026 i Hedeland ved Roski
 lde.\n\nSL 26 er en kæmpe lejr med 35-40.000 spejdere fra hele verden. Vi
  bor i  \nvores egen Erik Ejegod lejr\, både vores spejdere og ledere.\n\
 nDer vil være et kæmpe tilbud af sjove aktiviteter hele ugen. Vi skal ti
 l  \nkæmpe åbnings lejrbål på skibakken\, lege med de andre spejdere\,
  udvikle  \nnye venskaber\, hygge og prøve en masse sjove ting.\n\nSkynd 
 jer at melde til på hjemmesiden .......... Det bliver en fantastisk  \no
 plevelse. Tilmelding inden 28/2 = kr 2475\,-  efter 1/3 = kr. 2600\,-\n\n
 1 sommerlejr brev er sendt til jeres mail \, Lejravis med yderligere info 
  \nkommer inden skolernes sommerferie (ca uge 27)\n\nTag fat i jeres leder
  hvis der er spørgsmål.\n\n                              
                  \nSpejderhilsen Lederne    \n\n    \n\n
URL:https://erikejegod.dk/begivenhed/sommerlejr-2026-eftertilmelding
DTSTART:20260718T141800Z
DTEND:20260726T141800Z
LOCATION:Erik Ejegod Gruppe\, Lystrupvej 22\, 3550 Slangerup
END:VEVENT
END:VCALENDAR
